BEGIN:VCALENDAR
VERSION:2.0
PRODID:-//ASD The Edge || Martial Arts - ECPv6.15.20//NONSGML v1.0//EN
CALSCALE:GREGORIAN
METHOD:PUBLISH
X-WR-CALNAME:ASD The Edge || Martial Arts
X-ORIGINAL-URL:https://edgemartialarts.it
X-WR-CALDESC:Eventi per ASD The Edge || Martial Arts
REFRESH-INTERVAL;VALUE=DURATION:PT1H
X-Robots-Tag:noindex
X-PUBLISHED-TTL:PT1H
BEGIN:VTIMEZONE
TZID:Europe/Rome
BEGIN:DAYLIGHT
TZOFFSETFROM:+0100
TZOFFSETTO:+0200
TZNAME:CEST
DTSTART:20250330T010000
END:DAYLIGHT
BEGIN:STANDARD
TZOFFSETFROM:+0200
TZOFFSETTO:+0100
TZNAME:CET
DTSTART:20251026T010000
END:STANDARD
BEGIN:DAYLIGHT
TZOFFSETFROM:+0100
TZOFFSETTO:+0200
TZNAME:CEST
DTSTART:20260329T010000
END:DAYLIGHT
BEGIN:STANDARD
TZOFFSETFROM:+0200
TZOFFSETTO:+0100
TZNAME:CET
DTSTART:20261025T010000
END:STANDARD
BEGIN:DAYLIGHT
TZOFFSETFROM:+0100
TZOFFSETTO:+0200
TZNAME:CEST
DTSTART:20270328T010000
END:DAYLIGHT
BEGIN:STANDARD
TZOFFSETFROM:+0200
TZOFFSETTO:+0100
TZNAME:CET
DTSTART:20271031T010000
END:STANDARD
END:VTIMEZONE
BEGIN:VEVENT
DTSTART;TZID=Europe/Rome:20260610T073000
DTEND;TZID=Europe/Rome:20260619T163000
DTSTAMP:20260420T164426
CREATED:20260323T102536Z
LAST-MODIFIED:20260327T093840Z
UID:1669-1781076600-1781886600@edgemartialarts.it
SUMMARY:Camp Sportivo Shochu geikò 暑中稽古
DESCRIPTION:Estate 2026\nCamp Sportivo per bambini e bambine dai 6 ai 10 anni\nShochu Geikò significa allenamento nel periodo più intenso dell’anno:\nun momento speciale in cui si cresce insieme\, si supera qualche piccola sfida e si impara a contare su sé stessi e sul gruppo. \n  \nLocation: Campo di Trebiciano \nDate: 10-19 giugno 2026 (8 giorni)\n15-19 giugno 2026 (5 giorni)\n \nOrari\n7.30-9.00 accoglimento\n15.30-16.30 uscita\nGiovedì 18 giugno attività serale attorno al fuoco (notte in tenda facoltativa) \nCosti\n8 giorni €290\,00\n5 giorni €185\,00\n -10% secondo figlio\n-20% terzo figlio \nEsclusa quota associativa annuale di €30\,00\nPranzo escluso \nIscrizioni\n393 2327949 (Carmen)\nsegreteria@edgemartialarts.it\na partire dal 30 marzo \n  \nCosa faranno i bambini?\n• Allenamenti marziali giocosi all’aria aperta\, in un ambiente sicuro e protetto\n• Giochi di squadra e mini olimpiadi\n• Costruzione di un piccolo rifugio\n• Attività nel bosco e “Sentiero del guerriero”\n• Esperienza con pony\n• Laboratori creativi (scrittura\, manualità\, espressione\, lezione di cinese) \nCosa svilupperanno?\n• Autonomia\n• Spirito di squadra\n• Disciplina\n• Creatività\n• Fiducia in sé stessi\n• Rispetto per la natura e per gli altri \nUn’esperienza completa\, nello stile delle Arti Marziali: forza\, equilibrio e cuore.
URL:https://edgemartialarts.it/event/camp-sportivo-shochu-geiko/
LOCATION:Campo di Trebiciano\, Trebiciano\, Trieste\, Italia
END:VEVENT
END:VCALENDAR